Workbook

Sheet Tong ket 5 khoa
A1: TRƯỜNG CAO ĐẲNG KỸ THUẬT | F1: CỘNG HOÀ XÃ HỘI CHỦ NGHĨA VIỆT NAM
A2: LÝ TỰ TRỌNG | F2: Độc Lập - Tự Do - Hạnh phúc
A3: PHÒNG KHCN & QHQT
A5: BẢNG TỔNG HỢP KẾT QUẢ KHẢO SÁT DOANH NGHIỆP
A7: Sau khi tổng hợp các phiếu khảo sát doanh nghiệp của 06 khoa, tổng số phiếu là 93 phiếu, trong đó: Khoa Điện - điện tử 24 phiếu, khoa Động lực 14 phiếu, khoa Công nghệ thông tin 20 phiếu, khoa Cơ khí 5 phiếu, khoa CN May - Thời trang 10 phiếu, khoa Điện lạnh 20 phiếu. Kết quả tổng hợp như sau:
A12: Câu 1: Đánh giá của Ông/ Bà về thời lượng học sinh – sinh viên thực tập tốt nghiệp tại doanh nghiệp như thế nào?
A14: STT | B14: Nội dung | C14: %
A15: 1 | B15: Đủ | C15: 0.33333333
A16: 2 | B16: Tạm đủ | C16: 0.32258065
A17: 3 | B17: Chưa đủ | C17: 0.34408602
A18: 4 | B18: Không có ý kiến | C18: 0
A20: Câu 2: Đánh giá của Ông/ Bà về mức độ đáp ứng yêu cầu tuyển dụng của doanh nghiệp đối với học sinh – sinh viên đã được đào tạo tại trường, hiện đang làm việc tại doanh nghiệp? (Mức độ đáp ứng được đánh giá theo 5 mức, trong đó: mức 1 là đáp ứng rất thấp, mức 2 là đáp ứng thấp, mức 3 là đáp ứng vừa phải, mức 4 là đáp ứng cao, mức 5 là đáp ứng rất cao)
A21: Stt | B21: Nội dung đánh giá | C21: Mức độ đáp ứng nhu yêu cầu tuyển dụng
C22: 1 | D22: 2 | E22: 3 | F22: 4 | G22: 5
C23: % | D23: % | E23: % | F23: % | G23: %
A24: 1 | B24: Kiến thức chuyên môn | C24: 0.010752688 | D24: 0.086021505 | E24: 0.53763441 | F24: 0.27956989 | G24: 0.043010753
A25: 2 | B25: Kỹ năng thực hành | C25: 0.021505376 | D25: 0.19354839 | E25: 0.52688172 | F25: 0.27956989 | G25: 0.021505376
A26: 3 | B26: Khả năng sử dụng thiết bị, công nghệ mới | C26: 0.053763441 | D26: 0.23655914 | E26: 0.49462366 | F26: 0.15053763 | G26: 0.086021505
A27: 4 | B27: Khả năng giải quyết các tình huống trong công việc | C27: 0.075268817 | D27: 0.19354839 | E27: 0.51612903 | F27: 0.20430108 | G27: 0.021505376
A28: 5 | B28: Khả năng làm việc theo nhóm | C28: 0.043010753 | D28: 0.19354839 | E28: 0.4516129 | F28: 0.24731183 | G28: 0.096774194
A29: 6 | B29: Khả năng tự nghiên cứu | C29: 0.075268817 | D29: 0.31182796 | E29: 0.40860215 | F29: 0.13978495 | G29: 0.032258065
A30: 7 | B30: Kỹ năng giao tiếp | C30: 0.043010753 | D30: 0.20430108 | E30: 0.43010753 | F30: 0.35483871 | G30: 0.032258065
A31: 8 | B31: Khả năng về tin học | C31: 0.010752688 | D31: 0.15053763 | E31: 0.50537634 | F31: 0.1827957 | G31: 0.086021505
A32: 9 | B32: Khả năng về ngoại ngữ | C32: 0.075268817 | D32: 0.17204301 | E32: 0.48387097 | F32: 0.10752688 | G32: 0
A33: 10 | B33: Tác phong nghề nghiệp | C33: 0.010752688 | D33: 0.086021505 | E33: 0.4516129 | F33: 0.22580645 | G33: 0.1827957
A34: 11 | B34: Phẩm chất đạo đức | C34: 0.010752688 | D34: 0 | E34: 0.27956989 | F34: 0.4516129 | G34: 0.25806452
A35: 12 | B35: Tình trạng sức khỏe | C35: 0.010752688 | D35: 0 | E35: 0.30107527 | F35: 0.38709677 | G35: 0.27956989
A36: Câu 3: Theo Ông/Bà để nâng cao chất lượng đào tạo tay nghề cho học sinh – sinh viên thì việc kết hợp trong đào tạo giữa nhà trường và doanh nghiệp cần thiết như thế nào?
A37: STT | B37: Nội dung | C37: %
A38: 1 | B38: Rất cần thiết | C38: 0.98924731
A39: 2 | B39: Bình thường | C39: 0.010752688
A40: 3 | B40: Không cần thiết | C40: 0
A41: Câu 4: Đánh giá của Ông/ Bà về mức độ của các nội dung hợp tác giữa nhà trường và doanh nghiệp như thế nào?
A42: Stt | B42: Nội dung hợp tác | C42: Mức độ phối hợp
C43: Chưa thực hiện | D43: Thỉnh thoảng | E43: Thường xuyên | F43: Rất thường xuyên
C44: % | D44: % | E44: % | F44: %
A46: 1 | B46: Trong việc xây dựng chương trình đào tạo của trường. | C46: 0.33333333 | D46: 0.40860215 | E46: 0.22580645 | F46: 0.010752688
A47: 2 | B47: Trong việc xây dựng kế hoạch đào tạo của trường. | C47: 0.34408602 | D47: 0.34408602 | E47: 0.20430108 | F47: 0.053763441
A48: 3 | B48: Trong việc tổ chức giảng dạy. | C48: 0.35483871 | D48: 0.3655914 | E48: 0.17204301 | F48: 0.043010753
A49: 4 | B49: Trong việc sử dụng trang thiết bị thực hành, thực tập. | C49: 0.24731183 | D49: 0.37634409 | E49: 0.25806452 | F49: 0.086021505
...

Sheet TỔNG KẾT
B1: TRƯỜNG CAO ĐẲNG KỸ THUẬT | H1: CỘNG HOÀ XÃ HỘI CHỦ NGHĨA VIỆT NAM
B2: LÝ TỰ TRỌNG | H2: Độc Lập - Tự Do - Hạnh phúc
B3: PHÒNG KHCN & QHQT
A5: BẢNG TỔNG HỢP KẾT QUẢ KHẢO SÁT DOANH NGHIỆP
A7: Câu 1: Đánh giá của Ông/ Bà về thời lượng học sinh – sinh viên thực tập tốt nghiệp tại doanh nghiệp như thế nào?
A9: STT | B9: Nội dung | C9: Số lượng | E9: Tỷ lệ %
A10: 1 | B10: Đủ | C10: ='ĐĐ-TỬ'!C10:D10+DONGLUC!C9+CNTT!C10+'CO-KHÍ'!C10:D10+'CNMAY-THỜI TRANG'!C10:D10+'ĐIỆN LẠNH'!C10:D10 -> 31 | E10: =C10/95 -> 0.32631579
A11: 2 | B11: Tạm đủ | C11: ='ĐĐ-TỬ'!C11:D11+DONGLUC!C10+CNTT!C11+'CO-KHÍ'!C11:D11+'CNMAY-THỜI TRANG'!C11:D11+'ĐIỆN LẠNH'!C11:D11 -> 32 | E11: =C11/95 -> 0.33684211
A12: 3 | B12: Chưa đủ | C12: ='ĐĐ-TỬ'!C12:D12+DONGLUC!C11+CNTT!C12+'CO-KHÍ'!C12:D12+'CNMAY-THỜI TRANG'!C12:D12+'ĐIỆN LẠNH'!C12:D12 -> 32 | E12: =C12/95 -> 0.33684211
A13: 4 | B13: Không có ý kiến | C13: ='ĐĐ-TỬ'!C13:D13+DONGLUC!C12+CNTT!C13+'CO-KHÍ'!C13:D13+'CNMAY-THỜI TRANG'!C13:D13+'ĐIỆN LẠNH'!C13:D13 -> 0 | E13: =C13/95 -> 0
A14: Câu 2: Đánh giá của Ông/ Bà về mức độ đáp ứng yêu cầu tuyển dụng của doanh nghiệp đối với học sinh – sinh viên đã được đào tạo tại trường, hiện đang làm việc tại doanh nghiệp? (Mức độ đáp ứng được đánh giá theo 5 mức, trong đó: mức 1 là đáp ứng rất thấp, mức 2 là đáp ứng thấp, mức 3 là đáp ứng vừa phải, mức 4 là đáp ứng cao, mức 5 là đáp ứng rất cao)
A15: Stt | B15: Nội dung đánh giá | C15: Mức độ đáp ứng nhu yêu cầu tuyển dụng
C16: 1 | E16: 2 | G16: 3 | I16: 4 | K16: 5
C17: SL | D17: % | E17: SL | F17: % | G17: SL | H17: % | I17: SL | J17: % | K17: SL | L17: %
A18: 1 | B18: Kiến thức chuyên môn | C18: ='ĐĐ-TỬ'!C18+DONGLUC!C17+CNTT!C18+'CO-KHÍ'!C18+'CNMAY-THỜI TRANG'!C18+'ĐIỆN LẠNH'!C18 -> 1 | D18: =C18/95 -> 0.010526316 | E18: =DONGLUC!E18+DONGLUC!E17+CNTT!E18+'CO-KHÍ'!E18+'CNMAY-THỜI TRANG'!E18+'ĐIỆN LẠNH'!E18 -> 8 | F18: =E18/95 -> 0.084210526 | G18: ='ĐĐ-TỬ'!G18+DONGLUC!G17+CNTT!G18+'CO-KHÍ'!G18+'CNMAY-THỜI TRANG'!G18+'ĐIỆN LẠNH'!G18 -> 50 | H18: =G18/95 -> 0.52631579 | I18: ='ĐĐ-TỬ'!I18+DONGLUC!I17+CNTT!I18+'CO-KHÍ'!I18+'CNMAY-THỜI TRANG'!I18+'ĐIỆN LẠNH'!I18 -> 26 | J18: =I18/95 -> 0.27368421 | K18: ='ĐĐ-TỬ'!K18+DONGLUC!K17+CNTT!K18+'CO-KHÍ'!K18+'CNMAY-THỜI TRANG'!K18+'ĐIỆN LẠNH'!K18 -> 4 | L18: =K18/95 -> 0.042105263
A19: 2 | B19: Kỹ năng thực hành | C19: ='ĐĐ-TỬ'!C19+DONGLUC!C18+CNTT!C19+'CO-KHÍ'!C19+'CNMAY-THỜI TRANG'!C19+'ĐIỆN LẠNH'!C19 -> 2 | D19: =C19/95 -> 0.021052632 | E19: =DONGLUC!E19+DONGLUC!E18+CNTT!E19+'CO-KHÍ'!E19+'CNMAY-THỜI TRANG'!E19+'ĐIỆN LẠNH'!E19 -> 18 | F19: =E19/95 -> 0.18947368 | G19: ='ĐĐ-TỬ'!G19+DONGLUC!G18+CNTT!G19+'CO-KHÍ'!G19+'CNMAY-THỜI TRANG'!G19+'ĐIỆN LẠNH'!G19 -> 49 | H19: =G19/95 -> 0.51578947 | I19: ='ĐĐ-TỬ'!I19+DONGLUC!I18+CNTT!I19+'CO-KHÍ'!I19+'CNMAY-THỜI TRANG'!I19+'ĐIỆN LẠNH'!I19 -> 26 | J19: =I19/95 -> 0.27368421 | K19: ='ĐĐ-TỬ'!K19+DONGLUC!K18+CNTT!K19+'CO-KHÍ'!K19+'CNMAY-THỜI TRANG'!K19+'ĐIỆN LẠNH'!K19 -> 2 | L19: =K19/95 -> 0.021052632
A20: 3 | B20: Khả năng sử dụng thiết bị, công nghệ mới | C20: ='ĐĐ-TỬ'!C20+DONGLUC!C19+CNTT!C20+'CO-KHÍ'!C20+'CNMAY-THỜI TRANG'!C20+'ĐIỆN LẠNH'!C20 -> 5 | D20: =C20/95 -> 0.052631579 | E20: =DONGLUC!E20+DONGLUC!E19+CNTT!E20+'CO-KHÍ'!E20+'CNMAY-THỜI TRANG'!E20+'ĐIỆN LẠNH'!E20 -> 22 | F20: =E20/95 -> 0.23157895 | G20: ='ĐĐ-TỬ'!G20+DONGLUC!G19+CNTT!G20+'CO-KHÍ'!G20+'CNMAY-THỜI TRANG'!G20+'ĐIỆN LẠNH'!G20 -> 46 | H20: =G20/95 -> 0.48421053 | I20: ='ĐĐ-TỬ'!I20+DONGLUC!I19+CNTT!I20+'CO-KHÍ'!I20+'CNMAY-THỜI TRANG'!I20+'ĐIỆN LẠNH'!I20 -> 14 | J20: =I20/95 -> 0.14736842 | K20: ='ĐĐ-TỬ'!K20+DONGLUC!K19+CNTT!K20+'CO-KHÍ'!K20+'CNMAY-THỜI TRANG'!K20+'ĐIỆN LẠNH'!K20 -> 8 | L20: =K20/95 -> 0.084210526
A21: 4 | B21: Khả năng giải quyết các tình huống trong công việc | C21: ='ĐĐ-TỬ'!C21+DONGLUC!C20+CNTT!C21+'CO-KHÍ'!C21+'CNMAY-THỜI TRANG'!C21+'ĐIỆN LẠNH'!C21 -> 7 | D21: =C21/95 -> 0.073684211 | E21: =DONGLUC!E21+DONGLUC!E20+CNTT!E21+'CO-KHÍ'!E21+'CNMAY-THỜI TRANG'!E21+'ĐIỆN LẠNH'!E21 -> 18 | F21: =E21/95 -> 0.18947368 | G21: ='ĐĐ-TỬ'!G21+DONGLUC!G20+CNTT!G21+'CO-KHÍ'!G21+'CNMAY-THỜI TRANG'!G21+'ĐIỆN LẠNH'!G21 -> 48 | H21: =G21/95 -> 0.50526316 | I21: ='ĐĐ-TỬ'!I21+DONGLUC!I20+CNTT!I21+'CO-KHÍ'!I21+'CNMAY-THỜI TRANG'!I21+'ĐIỆN LẠNH'!I21 -> 19 | J21: =I21/95 -> 0.2 | K21: ='ĐĐ-TỬ'!K21+DONGLUC!K20+CNTT!K21+'CO-KHÍ'!K21+'CNMAY-THỜI TRANG'!K21+'ĐIỆN LẠNH'!K21 -> 2 | L21: =K21/95 -> 0.021052632
A22: 5 | B22: Khả năng làm việc theo nhóm | C22: ='ĐĐ-TỬ'!C22+DONGLUC!C21+CNTT!C22+'CO-KHÍ'!C22+'CNMAY-THỜI TRANG'!C22+'ĐIỆN LẠNH'!C22 -> 4 | D22: =C22/95 -> 0.042105263 | E22: =DONGLUC!E22+DONGLUC!E21+CNTT!E22+'CO-KHÍ'!E22+'CNMAY-THỜI TRANG'!E22+'ĐIỆN LẠNH'!E22 -> 18 | F22: =E22/95 -> 0.18947368 | G22: ='ĐĐ-TỬ'!G22+DONGLUC!G21+CNTT!G22+'CO-KHÍ'!G22+'CNMAY-THỜI TRANG'!G22+'ĐIỆN LẠNH'!G22 -> 42 | H22: =G22/95 -> 0.44210526 | I22: ='ĐĐ-TỬ'!I22+DONGLUC!I21+CNTT!I22+'CO-KHÍ'!I22+'CNMAY-THỜI TRANG'!I22+'ĐIỆN LẠNH'!I22 -> 23 | J22: =I22/95 -> 0.24210526 | K22: ='ĐĐ-TỬ'!K22+DONGLUC!K21+CNTT!K22+'CO-KHÍ'!K22+'CNMAY-THỜI TRANG'!K22+'ĐIỆN LẠNH'!K22 -> 9 | L22: =K22/95 -> 0.094736842
A23: 6 | B23: Khả năng tự nghiên cứu | C23: ='ĐĐ-TỬ'!C23+DONGLUC!C22+CNTT!C23+'CO-KHÍ'!C23+'CNMAY-THỜI TRANG'!C23+'ĐIỆN LẠNH'!C23 -> 7 | D23: =C23/95 -> 0.073684211 | E23: =DONGLUC!E23+DONGLUC!E22+CNTT!E23+'CO-KHÍ'!E23+'CNMAY-THỜI TRANG'!E23+'ĐIỆN LẠNH'!E23 -> 29 | F23: =E23/95 -> 0.30526316 | G23: ='ĐĐ-TỬ'!G23+DONGLUC!G22+CNTT!G23+'CO-KHÍ'!G23+'CNMAY-THỜI TRANG'!G23+'ĐIỆN LẠNH'!G23 -> 38 | H23: =G23/95 -> 0.4 | I23: ='ĐĐ-TỬ'!I23+DONGLUC!I22+CNTT!I23+'CO-KHÍ'!I23+'CNMAY-THỜI TRANG'!I23+'ĐIỆN LẠNH'!I23 -> 13 | J23: =I23/95 -> 0.13684211 | K23: ='ĐĐ-TỬ'!K23+DONGLUC!K22+CNTT!K23+'CO-KHÍ'!K23+'CNMAY-THỜI TRANG'!K23+'ĐIỆN LẠNH'!K23 -> 3 | L23: =K23/95 -> 0.031578947
A24: 7 | B24: Kỹ năng giao tiếp | C24: ='ĐĐ-TỬ'!C24+DONGLUC!C23+CNTT!C24+'CO-KHÍ'!C24+'CNMAY-THỜI TRANG'!C24+'ĐIỆN LẠNH'!C24 -> 4 | D24: =C24/95 -> 0.042105263 | E24: =DONGLUC!E24+DONGLUC!E23+CNTT!E24+'CO-KHÍ'!E24+'CNMAY-THỜI TRANG'!E24+'ĐIỆN LẠNH'!E24 -> 19 | F24: =E24/95 -> 0.2 | G24: ='ĐĐ-TỬ'!G24+DONGLUC!G23+CNTT!G24+'CO-KHÍ'!G24+'CNMAY-THỜI TRANG'!G24+'ĐIỆN LẠNH'!G24 -> 40 | H24: =G24/95 -> 0.42105263 | I24: ='ĐĐ-TỬ'!I24+DONGLUC!I23+CNTT!I24+'CO-KHÍ'!I24+'CNMAY-THỜI TRANG'!I24+'ĐIỆN LẠNH'!I24 -> 33 | J24: =I24/95 -> 0.34736842 | K24: ='ĐĐ-TỬ'!K24+DONGLUC!K23+CNTT!K24+'CO-KHÍ'!K24+'CNMAY-THỜI TRANG'!K24+'ĐIỆN LẠNH'!K24 -> 3 | L24: =K24/95 -> 0.031578947
A25: 8 | B25: Khả năng về tin học | C25: ='ĐĐ-TỬ'!C25+DONGLUC!C24+CNTT!C25+'CO-KHÍ'!C25+'CNMAY-THỜI TRANG'!C25+'ĐIỆN LẠNH'!C25 -> 1 | D25: =C25/95 -> 0.010526316 | E25: =DONGLUC!E25+DONGLUC!E24+CNTT!E25+'CO-KHÍ'!E25+'CNMAY-THỜI TRANG'!E25+'ĐIỆN LẠNH'!E25 -> 14 | F25: =E25/95 -> 0.14736842 | G25: ='ĐĐ-TỬ'!G25+DONGLUC!G24+CNTT!G25+'CO-KHÍ'!G25+'CNMAY-THỜI TRANG'!G25+'ĐIỆN LẠNH'!G25 -> 47 | H25: =G25/95 -> 0.49473684 | I25: ='ĐĐ-TỬ'!I25+DONGLUC!I24+CNTT!I25+'CO-KHÍ'!I25+'CNMAY-THỜI TRANG'!I25+'ĐIỆN LẠNH'!I25 -> 17 | J25: =I25/95 -> 0.17894737 | K25: ='ĐĐ-TỬ'!K25+DONGLUC!K24+CNTT!K25+'CO-KHÍ'!K25+'CNMAY-THỜI TRANG'!K25+'ĐIỆN LẠNH'!K25 -> 8 | L25: =K25/95 -> 0.084210526
A26: 9 | B26: Khả năng về ngoại ngữ | C26: ='ĐĐ-TỬ'!C26+DONGLUC!C25+CNTT!C26+'CO-KHÍ'!C26+'CNMAY-THỜI TRANG'!C26+'ĐIỆN LẠNH'!C26 -> 7 | D26: =C26/95 -> 0.073684211 | E26: =DONGLUC!E26+DONGLUC!E25+CNTT!E26+'CO-KHÍ'!E26+'CNMAY-THỜI TRANG'!E26+'ĐIỆN LẠNH'!E26 -> 16 | F26: =E26/95 -> 0.16842105 | G26: ='ĐĐ-TỬ'!G26+DONGLUC!G25+CNTT!G26+'CO-KHÍ'!G26+'CNMAY-THỜI TRANG'!G26+'ĐIỆN LẠNH'!G26 -> 45 | H26: =G26/95 -> 0.47368421 | I26: ='ĐĐ-TỬ'!I26+DONGLUC!I25+CNTT!I26+'CO-KHÍ'!I26+'CNMAY-THỜI TRANG'!I26+'ĐIỆN LẠNH'!I26 -> 10 | J26: =I26/95 -> 0.10526316 | K26: ='ĐĐ-TỬ'!K26+DONGLUC!K25+CNTT!K26+'CO-KHÍ'!K26+'CNMAY-THỜI TRANG'!K26+'ĐIỆN LẠNH'!K26 -> 0 | L26: =K26/95 -> 0
A27: 10 | B27: Tác phong nghề nghiệp | C27: ='ĐĐ-TỬ'!C27+DONGLUC!C26+CNTT!C27+'CO-KHÍ'!C27+'CNMAY-THỜI TRANG'!C27+'ĐIỆN LẠNH'!C27 -> 1 | D27: =C27/95 -> 0.010526316 | E27: =DONGLUC!E27+DONGLUC!E26+CNTT!E27+'CO-KHÍ'!E27+'CNMAY-THỜI TRANG'!E27+'ĐIỆN LẠNH'!E27 -> 8 | F27: =E27/95 -> 0.084210526 | G27: ='ĐĐ-TỬ'!G27+DONGLUC!G26+CNTT!G27+'CO-KHÍ'!G27+'CNMAY-THỜI TRANG'!G27+'ĐIỆN LẠNH'!G27 -> 42 | H27: =G27/95 -> 0.44210526 | I27: ='ĐĐ-TỬ'!I27+DONGLUC!I26+CNTT!I27+'CO-KHÍ'!I27+'CNMAY-THỜI TRANG'!I27+'ĐIỆN LẠNH'!I27 -> 21 | J27: =I27/95 -> 0.22105263 | K27: ='ĐĐ-TỬ'!K27+DONGLUC!K26+CNTT!K27+'CO-KHÍ'!K27+'CNMAY-THỜI TRANG'!K27+'ĐIỆN LẠNH'!K27 -> 17 | L27: =K27/95 -> 0.17894737
A28: 11 | B28: Phẩm chất đạo đức | C28: ='ĐĐ-TỬ'!C28+DONGLUC!C27+CNTT!C28+'CO-KHÍ'!C28+'CNMAY-THỜI TRANG'!C28+'ĐIỆN LẠNH'!C28 -> 1 | D28: =C28/95 -> 0.010526316 | E28: =DONGLUC!E28+DONGLUC!E27+CNTT!E28+'CO-KHÍ'!E28+'CNMAY-THỜI TRANG'!E28+'ĐIỆN LẠNH'!E28 -> 0 | F28: =E28/95 -> 0 | G28: ='ĐĐ-TỬ'!G28+DONGLUC!G27+CNTT!G28+'CO-KHÍ'!G28+'CNMAY-THỜI TRANG'!G28+'ĐIỆN LẠNH'!G28 -> 26 | H28: =G28/95 -> 0.27368421 | I28: ='ĐĐ-TỬ'!I28+DONGLUC!I27+CNTT!I28+'CO-KHÍ'!I28+'CNMAY-THỜI TRANG'!I28+'ĐIỆN LẠNH'!I28 -> 42 | J28: =I28/95 -> 0.44210526 | K28: ='ĐĐ-TỬ'!K28+DONGLUC!K27+CNTT!K28+'CO-KHÍ'!K28+'CNMAY-THỜI TRANG'!K28+'ĐIỆN LẠNH'!K28 -> 24 | L28: =K28/95 -> 0.25263158
A29: 12 | B29: Tình trạng sức khỏe | C29: ='ĐĐ-TỬ'!C29+DONGLUC!C28+CNTT!C29+'CO-KHÍ'!C29+'CNMAY-THỜI TRANG'!C29+'ĐIỆN LẠNH'!C29 -> 1 | D29: =C29/95 -> 0.010526316 | E29: =DONGLUC!E29+DONGLUC!E28+CNTT!E29+'CO-KHÍ'!E29+'CNMAY-THỜI TRANG'!E29+'ĐIỆN LẠNH'!E29 -> 0 | F29: =E29/95 -> 0 | G29: ='ĐĐ-TỬ'!G29+DONGLUC!G28+CNTT!G29+'CO-KHÍ'!G29+'CNMAY-THỜI TRANG'!G29+'ĐIỆN LẠNH'!G29 -> 28 | H29: =G29/95 -> 0.29473684 | I29: ='ĐĐ-TỬ'!I29+DONGLUC!I28+CNTT!I29+'CO-KHÍ'!I29+'CNMAY-THỜI TRANG'!I29+'ĐIỆN LẠNH'!I29 -> 36 | J29: =I29/95 -> 0.37894737 | K29: ='ĐĐ-TỬ'!K29+DONGLUC!K28+CNTT!K29+'CO-KHÍ'!K29+'CNMAY-THỜI TRANG'!K29+'ĐIỆN LẠNH'!K29 -> 26 | L29: =K29/95 -> 0.27368421
A30: Câu 3: Theo Ông/Bà để nâng cao chất lượng đào tạo tay nghề cho học sinh – sinh viên thì việc kết hợp trong đào tạo giữa nhà trường và doanh nghiệp cần thiết như thế nào?
A31: STT | B31: Nội dung | C31: Số lượng | E31: Tỷ lệ %
A32: 1 | B32: Rất cần thiết | C32: ='ĐĐ-TỬ'!C32:D32+DONGLUC!C31+CNTT!C32+'CO-KHÍ'!C32:D32+'CNMAY-THỜI TRANG'!C32:D32+'ĐIỆN LẠNH'!C32:D32 -> 92 | E32: =C32/95 -> 0.96842105
A33: 2 | B33: Bình thường | C33: ='ĐĐ-TỬ'!C33:D33+DONGLUC!C32+CNTT!C33+'CO-KHÍ'!C33:D33+'CNMAY-THỜI TRANG'!C33:D33+'ĐIỆN LẠNH'!C33:D33 -> 1 | E33: =C33/95 -> 0.010526316
A34: 3 | B34: Không cần thiết | C34: ='ĐĐ-TỬ'!C34:D34+DONGLUC!C33+CNTT!C34+'CO-KHÍ'!C34:D34+'CNMAY-THỜI TRANG'!C34:D34+'ĐIỆN LẠNH'!C34:D34 -> 0 | E34: =C34/95 -> 0
A35: Câu 4: Đánh giá của Ông/ Bà về mức độ của các nội dung hợp tác giữa nhà trường và doanh nghiệp như thế nào?
A36: Stt | B36: Nội dung hợp tác | C36: Mức độ phối hợp
C37: Chưa thực hiện | E37: Thỉnh thoảng | G37: Thường xuyên | I37: Rất thường xuyên
C38: SL | D38: % | E38: SL | F38: % | G38: SL | H38: % | I38: SL | J38: %
A40: 1 | B40: Trong việc xây dựng chương trình đào tạo của trường. | C40: ='ĐĐ-TỬ'!C40+DONGLUC!C39+CNTT!C40+'CO-KHÍ'!C40+'CNMAY-THỜI TRANG'!C40+'ĐIỆN LẠNH'!C40 -> 31 | D40: =C40/93 -> 0.33333333 | E40: ='ĐĐ-TỬ'!E40+DONGLUC!E39+CNTT!E40+'CO-KHÍ'!E40+'CNMAY-THỜI TRANG'!E40+'ĐIỆN LẠNH'!E40 -> 38 | F40: =E40/93 -> 0.40860215 | G40: ='ĐĐ-TỬ'!G40+DONGLUC!G39+CNTT!G40+'CO-KHÍ'!G40+'CNMAY-THỜI TRANG'!G40+'ĐIỆN LẠNH'!G40 -> 21 | H40: =G40/93 -> 0.22580645 | I40: ='ĐĐ-TỬ'!I40+DONGLUC!I39+CNTT!I40+'CO-KHÍ'!I40+'CNMAY-THỜI TRANG'!I40+'ĐIỆN LẠNH'!I40 -> 1 | J40: =I40/93 -> 0.010752688
A41: 2 | B41: Trong việc xây dựng kế hoạch đào tạo của trường. | C41: ='ĐĐ-TỬ'!C41+DONGLUC!C40+CNTT!C41+'CO-KHÍ'!C41+'CNMAY-THỜI TRANG'!C41+'ĐIỆN LẠNH'!C41 -> 32 | D41: =C41/93 -> 0.34408602 | E41: ='ĐĐ-TỬ'!E41+DONGLUC!E40+CNTT!E41+'CO-KHÍ'!E41+'CNMAY-THỜI TRANG'!E41+'ĐIỆN LẠNH'!E41 -> 32 | F41: =E41/93 -> 0.34408602 | G41: ='ĐĐ-TỬ'!G41+DONGLUC!G40+CNTT!G41+'CO-KHÍ'!G41+'CNMAY-THỜI TRANG'!G41+'ĐIỆN LẠNH'!G41 -> 19 | H41: =G41/93 -> 0.20430108 | I41: ='ĐĐ-TỬ'!I41+DONGLUC!I40+CNTT!I41+'CO-KHÍ'!I41+'CNMAY-THỜI TRANG'!I41+'ĐIỆN LẠNH'!I41 -> 5 | J41: =I41/93 -> 0.053763441
A42: 3 | B42: Trong việc tổ chức giảng dạy. | C42: ='ĐĐ-TỬ'!C42+DONGLUC!C41+CNTT!C42+'CO-KHÍ'!C42+'CNMAY-THỜI TRANG'!C42+'ĐIỆN LẠNH'!C42 -> 33 | D42: =C42/93 -> 0.35483871 | E42: ='ĐĐ-TỬ'!E42+DONGLUC!E41+CNTT!E42+'CO-KHÍ'!E42+'CNMAY-THỜI TRANG'!E42+'ĐIỆN LẠNH'!E42 -> 34 | F42: =E42/93 -> 0.3655914 | G42: ='ĐĐ-TỬ'!G42+DONGLUC!G41+CNTT!G42+'CO-KHÍ'!G42+'CNMAY-THỜI TRANG'!G42+'ĐIỆN LẠNH'!G42 -> 16 | H42: =G42/93 -> 0.17204301 | I42: ='ĐĐ-TỬ'!I42+DONGLUC!I41+CNTT!I42+'CO-KHÍ'!I42+'CNMAY-THỜI TRANG'!I42+'ĐIỆN LẠNH'!I42 -> 4 | J42: =I42/93 -> 0.043010753
A43: 4 | B43: Trong việc sử dụng trang thiết bị thực hành, thực tập. | C43: ='ĐĐ-TỬ'!C43+DONGLUC!C42+CNTT!C43+'CO-KHÍ'!C43+'CNMAY-THỜI TRANG'!C43+'ĐIỆN LẠNH'!C43 -> 23 | D43: =C43/93 -> 0.24731183 | E43: ='ĐĐ-TỬ'!E43+DONGLUC!E42+CNTT!E43+'CO-KHÍ'!E43+'CNMAY-THỜI TRANG'!E43+'ĐIỆN LẠNH'!E43 -> 35 | F43: =E43/93 -> 0.37634409 | G43: ='ĐĐ-TỬ'!G43+DONGLUC!G42+CNTT!G43+'CO-KHÍ'!G43+'CNMAY-THỜI TRANG'!G43+'ĐIỆN LẠNH'!G43 -> 24 | H43: =G43/93 -> 0.25806452 | I43: ='ĐĐ-TỬ'!I43+DONGLUC!I42+CNTT!I43+'CO-KHÍ'!I43+'CNMAY-THỜI TRANG'!I43+'ĐIỆN LẠNH'!I43 -> 8 | J43: =I43/93 -> 0.086021505
A44: 5 | B44: Trong việc kiểm tra, đánh giá kết quả đào tạo của trường. | C44: ='ĐĐ-TỬ'!C44+DONGLUC!C43+CNTT!C44+'CO-KHÍ'!C44+'CNMAY-THỜI TRANG'!C44+'ĐIỆN LẠNH'!C44 -> 23 | D44: =C44/93 -> 0.24731183 | E44: ='ĐĐ-TỬ'!E44+DONGLUC!E43+CNTT!E44+'CO-KHÍ'!E44+'CNMAY-THỜI TRANG'!E44+'ĐIỆN LẠNH'!E44 -> 33 | F44: =E44/93 -> 0.35483871 | G44: ='ĐĐ-TỬ'!G44+DONGLUC!G43+CNTT!G44+'CO-KHÍ'!G44+'CNMAY-THỜI TRANG'!G44+'ĐIỆN LẠNH'!G44 -> 28 | H44: =G44/93 -> 0.30107527 | I44: ='ĐĐ-TỬ'!I44+DONGLUC!I43+CNTT!I44+'CO-KHÍ'!I44+'CNMAY-THỜI TRANG'!I44+'ĐIỆN LẠNH'!I44 -> 4 | J44: =I44/93 -> 0.043010753
...

Sheet ĐĐ-TỬ
B1: TRƯỜNG CAO ĐẲNG KỸ THUẬT | H1: CỘNG HOÀ XÃ HỘI CHỦ NGHĨA VIỆT NAM
B2: LÝ TỰ TRỌNG | H2: Độc Lập - Tự Do - Hạnh phúc
B3: KHOA: ĐIỆN - ĐIỆN TỬ
A5: BẢNG TỔNG HỢP KẾT QUẢ KHẢO SÁT DOANH NGHIỆP
A6: KHOA: ĐIỆN - ĐIỆN TỬ
A7: Câu 1: Đánh giá của Ông/ Bà về thời lượng học sinh – sinh viên thực tập tốt nghiệp tại doanh nghiệp như thế nào?
A9: STT | B9: Nội dung | C9: Số lượng | E9: Tỷ lệ %
A10: 1 | B10: Đủ | C10: 7 | E10: =C10/23 -> 0.30434783
A11: 2 | B11: Tạm đủ | C11: 6 | E11: =C11/23 -> 0.26086957
A12: 3 | B12: Chưa đủ | C12: 11 | E12: =C12/23 -> 0.47826087
A13: 4 | B13: Không có ý kiến | E13: =C13/23 -> 0
A14: Câu 2: Đánh giá của Ông/ Bà về mức độ đáp ứng yêu cầu tuyển dụng của doanh nghiệp đối với học sinh – sinh viên đã được đào tạo tại trường, hiện đang làm việc tại doanh nghiệp? (Mức độ đáp ứng được đánh giá theo 5 mức, trong đó: mức 1 là đáp ứng rất thấp, mức 2 là đáp ứng thấp, mức 3 là đáp ứng vừa phải, mức 4 là đáp ứng cao, mức 5 là đáp ứng rất cao)
A15: Stt | B15: Nội dung đánh giá | C15: Mức độ đáp ứng nhu yêu cầu tuyển dụng
C16: 1 | E16: 2 | G16: 3 | I16: 4 | K16: 5
C17: SL | D17: % | E17: SL | F17: % | G17: SL | H17: % | I17: SL | J17: % | K17: SL | L17: %
A18: 1 | B18: Kiến thức chuyên môn | C18: 0 | D18: =C18/23 -> 0 | E18: 2 | F18: =E18/23 -> 0.086956522 | G18: 13 | H18: =G18/23 -> 0.56521739 | I18: 5 | J18: =I18/23 -> 0.2173913 | K18: 0 | L18: =K18/23 -> 0
A19: 2 | B19: Kỹ năng thực hành | C19: 0 | D19: =C19/23 -> 0 | E19: 3 | F19: =E19/23 -> 0.13043478 | G19: 16 | H19: =G19/23 -> 0.69565217 | I19: 6 | J19: =I19/23 -> 0.26086957 | K19: 0 | L19: =K19/23 -> 0
A20: 3 | B20: Khả năng sử dụng thiết bị, công nghệ mới | C20: 0 | D20: =C20/23 -> 0 | E20: 7 | F20: =E20/23 -> 0.30434783 | G20: 14 | H20: =G20/23 -> 0.60869565 | I20: 3 | J20: =I20/23 -> 0.13043478 | K20: 1 | L20: =K20/23 -> 0.043478261
A21: 4 | B21: Khả năng giải quyết các tình huống trong công việc | C21: 0 | D21: =C21/23 -> 0 | E21: 4 | F21: =E21/23 -> 0.17391304 | G21: 14 | H21: =G21/23 -> 0.60869565 | I21: 3 | J21: =I21/23 -> 0.13043478 | K21: 0 | L21: =K21/23 -> 0
A22: 5 | B22: Khả năng làm việc theo nhóm | C22: 1 | D22: =C22/23 -> 0.043478261 | E22: 2 | F22: =E22/23 -> 0.086956522 | G22: 11 | H22: =G22/23 -> 0.47826087 | I22: 7 | J22: =I22/23 -> 0.30434783 | K22: 2 | L22: =K22/23 -> 0.086956522
A23: 6 | B23: Khả năng tự nghiên cứu | C23: 2 | D23: =C23/23 -> 0.086956522 | E23: 9 | F23: =E23/23 -> 0.39130435 | G23: 10 | H23: =G23/23 -> 0.43478261 | I23: 2 | J23: =I23/23 -> 0.086956522 | K23: 0 | L23: =K23/23 -> 0
A24: 7 | B24: Kỹ năng giao tiếp | C24: 0 | D24: =C24/23 -> 0 | E24: 4 | F24: =E24/23 -> 0.17391304 | G24: 10 | H24: =G24/23 -> 0.43478261 | I24: 17 | J24: =I24/23 -> 0.73913043 | L24: =K24/23 -> 0
A25: 8 | B25: Khả năng về tin học | C25: 0 | D25: =C25/23 -> 0 | E25: 5 | F25: =E25/23 -> 0.2173913 | G25: 14 | H25: =G25/23 -> 0.60869565 | I25: 3 | J25: =I25/23 -> 0.13043478 | K25: 1 | L25: =K25/23 -> 0.043478261
A26: 9 | B26: Khả năng về ngoại ngữ | C26: 1 | D26: =C26/23 -> 0.043478261 | E26: 9 | F26: =E26/23 -> 0.39130435 | G26: 11 | H26: =G26/23 -> 0.47826087 | I26: 0 | J26: =I26/23 -> 0 | K26: 0 | L26: =K26/23 -> 0
A27: 10 | B27: Tác phong nghề nghiệp | C27: 0 | D27: =C27/23 -> 0 | E27: 1 | F27: =E27/23 -> 0.043478261 | G27: 12 | H27: =G27/23 -> 0.52173913 | I27: 7 | J27: =I27/23 -> 0.30434783 | K27: 3 | L27: =K27/23 -> 0.13043478
A28: 11 | B28: Phẩm chất đạo đức | C28: 0 | D28: =C28/23 -> 0 | E28: 0 | F28: =E28/23 -> 0 | G28: 10 | H28: =G28/23 -> 0.43478261 | I28: 7 | J28: =I28/23 -> 0.30434783 | K28: 7 | L28: =K28/23 -> 0.30434783
A29: 12 | B29: Tình trạng sức khỏe | C29: 0 | D29: =C29/23 -> 0 | E29: 0 | F29: =E29/23 -> 0 | G29: 10 | H29: =G29/23 -> 0.43478261 | I29: 10 | J29: =I29/23 -> 0.43478261 | K29: 3 | L29: =K29/23 -> 0.13043478
A30: Câu 3: Theo Ông/Bà để nâng cao chất lượng đào tạo tay nghề cho học sinh – sinh viên thì việc kết hợp trong đào tạo giữa nhà trường và doanh nghiệp cần thiết như thế nào?
A31: STT | B31: Nội dung | C31: Số lượng | E31: Tỷ lệ %
A32: 1 | B32: Rất cần thiết | C32: 23 | E32: =C32/23 -> 1
A33: 2 | B33: Bình thường | E33: =C33/23 -> 0
A34: 3 | B34: Không cần thiết | E34: =C34/23 -> 0
A35: Câu 4: Đánh giá của Ông/ Bà về mức độ của các nội dung hợp tác giữa nhà trường và doanh nghiệp như thế nào?
A36: Stt | B36: Nội dung hợp tác | C36: Mức độ phối hợp
C37: Chưa thực hiện | E37: Thỉnh thoảng | G37: Thường xuyên | I37: Rất thường xuyên
C38: SL | D38: % | E38: SL | F38: % | G38: SL | H38: % | I38: SL | J38: %
A40: 1 | B40: Trong việc xây dựng chương trình đào tạo của trường. | C40: 8 | D40: =C40/23 -> 0.34782609 | E40: 9 | F40: =E40/23 -> 0.39130435 | G40: 4 | H40: =G40/23 -> 0.17391304 | I40: 0 | J40: =I40/23 -> 0
A41: 2 | B41: Trong việc xây dựng kế hoạch đào tạo của trường. | C41: 8 | D41: =C41/23 -> 0.34782609 | E41: 6 | F41: =E41/23 -> 0.26086957 | G41: 3 | H41: =G41/23 -> 0.13043478 | I41: 1 | J41: =I41/23 -> 0.043478261
A42: 3 | B42: Trong việc tổ chức giảng dạy. | C42: 7 | D42: =C42/23 -> 0.30434783 | E42: 9 | F42: =E42/23 -> 0.39130435 | G42: 2 | H42: =G42/23 -> 0.086956522 | I42: 1 | J42: =I42/23 -> 0.043478261
A43: 4 | B43: Trong việc sử dụng trang thiết bị thực hành, thực tập. | C43: 6 | D43: =C43/23 -> 0.26086957 | E43: 9 | F43: =E43/23 -> 0.39130435 | G43: 3 | H43: =G43/23 -> 0.13043478 | I43: 2 | J43: =I43/23 -> 0.086956522
...

Sheet DONGLUC
B1: TRƯỜNG CAO ĐẲNG KỸ THUẬT | H1: CỘNG HOÀ XÃ HỘI CHỦ NGHĨA VIỆT NAM
B2: LÝ TỰ TRỌNG | H2: Độc Lập - Tự Do - Hạnh phúc
B3: KHOA: ĐỘNG LỰC
A5: BẢNG TỔNG HỢP KẾT QUẢ KHẢO SÁT DOANH NGHIỆP
A6: Câu 1: Đánh giá của Ông/ Bà về thời lượng học sinh – sinh viên thực tập tốt nghiệp tại doanh nghiệp như thế nào?
A8: STT | B8: Nội dung | C8: Số lượng | E8: Tỷ lệ %
A9: 1 | B9: Đủ | C9: 6 | E9: =C9/14 -> 0.42857143
A10: 2 | B10: Tạm đủ | C10: 6 | E10: =C10/14 -> 0.42857143
A11: 3 | B11: Chưa đủ | C11: 2 | E11: =C11/14 -> 0.14285714
A12: 4 | B12: Không có ý kiến | E12: =C12/14 -> 0
A13: Câu 2: Đánh giá của Ông/ Bà về mức độ đáp ứng yêu cầu tuyển dụng của doanh nghiệp đối với học sinh – sinh viên đã được đào tạo tại trường, hiện đang làm việc tại doanh nghiệp? (Mức độ đáp ứng được đánh giá theo 5 mức, trong đó: mức 1 là đáp ứng rất thấp, mức 2 là đáp ứng thấp, mức 3 là đáp ứng vừa phải, mức 4 là đáp ứng cao, mức 5 là đáp ứng rất cao)
A14: Stt | B14: Nội dung đánh giá | C14: Mức độ đáp ứng nhu yêu cầu tuyển dụng
C15: 1 | E15: 2 | G15: 3 | I15: 4 | K15: 5
C16: SL | D16: % | E16: SL | F16: % | G16: SL | H16: % | I16: SL | J16: % | K16: SL | L16: %
A17: 1 | B17: Kiến thức chuyên môn | C17: 0 | D17: =C17/14 -> 0 | E17: 2 | F17: =E17/14 -> 0.14285714 | G17: 8 | H17: =G17/14 -> 0.57142857 | I17: 3 | J17: =I17/14 -> 0.21428571 | K17: 0 | L17: =K17/14 -> 0
A18: 2 | B18: Kỹ năng thực hành | C18: 1 | D18: =C18/14 -> 0.071428571 | E18: 2 | F18: =E18/14 -> 0.14285714 | G18: 6 | H18: =G18/14 -> 0.42857143 | I18: 3 | J18: =I18/14 -> 0.21428571 | K18: 0 | L18: =K18/14 -> 0
A19: 3 | B19: Khả năng sử dụng thiết bị, công nghệ mới | C19: 1 | D19: =C19/14 -> 0.071428571 | E19: 6 | F19: =E19/14 -> 0.42857143 | G19: 6 | H19: =G19/14 -> 0.42857143 | J19: =I19/14 -> 0 | K19: 0 | L19: =K19/14 -> 0
A20: 4 | B20: Khả năng giải quyết các tình huống trong công việc | C20: 2 | D20: =C20/14 -> 0.14285714 | E20: 6 | F20: =E20/14 -> 0.42857143 | G20: 6 | H20: =G20/14 -> 0.42857143 | I20: 2 | J20: =I20/14 -> 0.14285714 | K20: 0 | L20: =K20/14 -> 0
A21: 5 | B21: Khả năng làm việc theo nhóm | C21: 1 | D21: =C21/14 -> 0.071428571 | E21: 5 | F21: =E21/14 -> 0.35714286 | G21: 6 | H21: =G21/14 -> 0.42857143 | I21: 2 | J21: =I21/14 -> 0.14285714 | K21: 0 | L21: =K21/14 -> 0
A22: 6 | B22: Khả năng tự nghiên cứu | C22: 2 | D22: =C22/14 -> 0.14285714 | E22: 4 | F22: =E22/14 -> 0.28571429 | G22: 6 | H22: =G22/14 -> 0.42857143 | I22: 2 | J22: =I22/14 -> 0.14285714 | L22: =K22/14 -> 0
A23: 7 | B23: Kỹ năng giao tiếp | C23: 2 | D23: =C23/14 -> 0.14285714 | E23: 5 | F23: =E23/14 -> 0.35714286 | G23: 3 | H23: =G23/14 -> 0.21428571 | I23: 1 | J23: =I23/14 -> 0.071428571 | K23: 1 | L23: =K23/14 -> 0.071428571
A24: 8 | B24: Khả năng về tin học | C24: 0 | D24: =C24/14 -> 0 | E24: 4 | F24: =E24/14 -> 0.28571429 | G24: 7 | H24: =G24/14 -> 0.5 | I24: 2 | J24: =I24/14 -> 0.14285714 | L24: =K24/14 -> 0
A25: 9 | B25: Khả năng về ngoại ngữ | C25: 1 | D25: =C25/14 -> 0.071428571 | E25: 3 | F25: =E25/14 -> 0.21428571 | G25: 6 | H25: =G25/14 -> 0.42857143 | I25: 1 | J25: =I25/14 -> 0.071428571 | L25: =K25/14 -> 0
A26: 10 | B26: Tác phong nghề nghiệp | C26: 1 | D26: =C26/14 -> 0.071428571 | F26: =E26/14 -> 0 | G26: 8 | H26: =G26/14 -> 0.57142857 | J26: =I26/14 -> 0 | K26: 4 | L26: =K26/14 -> 0.28571429
A27: 11 | B27: Phẩm chất đạo đức | C27: 1 | D27: =C27/14 -> 0.071428571 | F27: =E27/14 -> 0 | G27: 6 | H27: =G27/14 -> 0.42857143 | I27: 2 | J27: =I27/14 -> 0.14285714 | K27: 5 | L27: =K27/14 -> 0.35714286
A28: 12 | B28: Tình trạng sức khỏe | C28: 1 | D28: =C28/14 -> 0.071428571 | F28: =E28/14 -> 0 | G28: 4 | H28: =G28/14 -> 0.28571429 | I28: 4 | J28: =I28/14 -> 0.28571429 | K28: 5 | L28: =K28/14 -> 0.35714286
A29: Câu 3: Theo Ông/Bà để nâng cao chất lượng đào tạo tay nghề cho học sinh – sinh viên thì việc kết hợp trong đào tạo giữa nhà trường và doanh nghiệp cần thiết như thế nào?
A30: STT | B30: Nội dung | C30: Số lượng | E30: Tỷ lệ %
A31: 1 | B31: Rất cần thiết | C31: 14 | E31: =C31/14 -> 1
A32: 2 | B32: Bình thường | C32: 0 | E32: =C32/14 -> 0
A33: 3 | B33: Không cần thiết | C33: 0 | E33: =C33/14 -> 0
A34: Câu 4: Đánh giá của Ông/ Bà về mức độ của các nội dung hợp tác giữa nhà trường và doanh nghiệp như thế nào?
A35: Stt | B35: Nội dung hợp tác | C35: Mức độ phối hợp
C36: Chưa thực hiện | E36: Thỉnh thoảng | G36: Thường xuyên | I36: Rất thường xuyên
C37: SL | D37: % | E37: SL | F37: % | G37: SL | H37: % | I37: SL | J37: %
A39: 1 | B39: Trong việc xây dựng chương trình đào tạo của trường. | C39: 8 | D39: =C39/14 -> 0.57142857 | E39: 3 | F39: =E39/14 -> 0.21428571 | G39: 3 | H39: =G39/14 -> 0.21428571 | I39: 0 | J39: =I39/14 -> 0
A40: 2 | B40: Trong việc xây dựng kế hoạch đào tạo của trường. | C40: 8 | D40: =C40/14 -> 0.57142857 | E40: 3 | F40: =E40/14 -> 0.21428571 | G40: 3 | H40: =G40/14 -> 0.21428571 | I40: 0 | J40: =I40/14 -> 0
A41: 3 | B41: Trong việc tổ chức giảng dạy. | C41: 5 | D41: =C41/14 -> 0.35714286 | E41: 3 | F41: =E41/14 -> 0.21428571 | G41: 3 | H41: =G41/14 -> 0.21428571 | I41: 2 | J41: =I41/14 -> 0.14285714
A42: 4 | B42: Trong việc sử dụng trang thiết bị thực hành, thực tập. | C42: 6 | D42: =C42/14 -> 0.42857143 | E42: 3 | F42: =E42/14 -> 0.21428571 | G42: 3 | H42: =G42/14 -> 0.21428571 | I42: 2 | J42: =I42/14 -> 0.14285714
A43: 5 | B43: Trong việc kiểm tra, đánh giá kết quả đào tạo của trường. | C43: 5 | D43: =C43/14 -> 0.35714286 | E43: 4 | F43: =E43/14 -> 0.28571429 | G43: 4 | H43: =G43/14 -> 0.28571429 | I43: 1 | J43: =I43/14 -> 0.071428571
...

Sheet CNTT
B1: TRƯỜNG CAO ĐẲNG KỸ THUẬT | H1: CỘNG HOÀ XÃ HỘI CHỦ NGHĨA VIỆT NAM
B2: LÝ TỰ TRỌNG | H2: Độc Lập - Tự Do - Hạnh phúc
B3: KHOA: CÔNG NGHỆ THÔNG TIN
A5: BẢNG TỔNG HỢP KẾT QUẢ KHẢO SÁT DOANH NGHIỆP
A6: KHOA: CÔNG NGHỆ THÔNG TIN
A7: Câu 1: Đánh giá của Ông/ Bà về thời lượng học sinh – sinh viên thực tập tốt nghiệp tại doanh nghiệp như thế nào?
A9: STT | B9: Nội dung | C9: Số lượng | E9: Tỷ lệ %
A10: 1 | B10: Đủ | C10: 13 | E10: =C10/20 -> 0.65
A11: 2 | B11: Tạm đủ | C11: 5 | E11: =C11/20 -> 0.25
A12: 3 | B12: Chưa đủ | C12: 2 | E12: =C12/20 -> 0.1
A13: 4 | B13: Không có ý kiến | C13: 0 | E13: =C13/20 -> 0
A14: Câu 2: Đánh giá của Ông/ Bà về mức độ đáp ứng yêu cầu tuyển dụng của doanh nghiệp đối với học sinh – sinh viên đã được đào tạo tại trường, hiện đang làm việc tại doanh nghiệp? (Mức độ đáp ứng được đánh giá theo 5 mức, trong đó: mức 1 là đáp ứng rất thấp, mức 2 là đáp ứng thấp, mức 3 là đáp ứng vừa phải, mức 4 là đáp ứng cao, mức 5 là đáp ứng rất cao)
A15: Stt | B15: Nội dung đánh giá | C15: Mức độ đáp ứng nhu yêu cầu tuyển dụng
C16: 1 | E16: 2 | G16: 3 | I16: 4 | K16: 5
C17: SL | D17: % | E17: SL | F17: % | G17: SL | H17: % | I17: SL | J17: % | K17: SL | L17: %
A18: 1 | B18: Kiến thức chuyên môn | C18: 0 | D18: =C18/20 -> 0 | E18: 1 | F18: =E18/20 -> 0.05 | G18: 10 | H18: =G18/20 -> 0.5 | I18: 6 | J18: =I18/20 -> 0.3 | K18: 3 | L18: =K18/20 -> 0.15
A19: 2 | B19: Kỹ năng thực hành | C19: 0 | D19: =C19/20 -> 0 | E19: 4 | F19: =E19/20 -> 0.2 | G19: 7 | H19: =G19/20 -> 0.35 | I19: 7 | J19: =I19/20 -> 0.35 | K19: 2 | L19: =K19/20 -> 0.1
A20: 3 | B20: Khả năng sử dụng thiết bị, công nghệ mới | C20: 1 | D20: =C20/20 -> 0.05 | E20: 2 | F20: =E20/20 -> 0.1 | G20: 10 | H20: =G20/20 -> 0.5 | I20: 2 | J20: =I20/20 -> 0.1 | K20: 5 | L20: =K20/20 -> 0.25
A21: 4 | B21: Khả năng giải quyết các tình huống trong công việc | C21: 2 | D21: =C21/20 -> 0.1 | E21: 1 | F21: =E21/20 -> 0.05 | G21: 9 | H21: =G21/20 -> 0.45 | I21: 7 | J21: =I21/20 -> 0.35 | K21: 1 | L21: =K21/20 -> 0.05
A22: 5 | B22: Khả năng làm việc theo nhóm | C22: 0 | D22: =C22/20 -> 0 | E22: 3 | F22: =E22/20 -> 0.15 | G22: 9 | H22: =G22/20 -> 0.45 | I22: 5 | J22: =I22/20 -> 0.25 | K22: 3 | L22: =K22/20 -> 0.15
A23: 6 | B23: Khả năng tự nghiên cứu | C23: 0 | D23: =C23/20 -> 0 | E23: 7 | F23: =E23/20 -> 0.35 | G23: 8 | H23: =G23/20 -> 0.4 | I23: 3 | J23: =I23/20 -> 0.15 | K23: 2 | L23: =K23/20 -> 0.1
A24: 7 | B24: Kỹ năng giao tiếp | C24: 1 | D24: =C24/20 -> 0.05 | E24: 3 | F24: =E24/20 -> 0.15 | G24: 12 | H24: =G24/20 -> 0.6 | I24: 3 | J24: =I24/20 -> 0.15 | K24: 1 | L24: =K24/20 -> 0.05
A25: 8 | B25: Khả năng về tin học | C25: 0 | D25: =C25/20 -> 0 | E25: 2 | F25: =E25/20 -> 0.1 | G25: 6 | H25: =G25/20 -> 0.3 | I25: 7 | J25: =I25/20 -> 0.35 | K25: 5 | L25: =K25/20 -> 0.25
A26: 9 | B26: Khả năng về ngoại ngữ | C26: 3 | D26: =C26/20 -> 0.15 | E26: 4 | F26: =E26/20 -> 0.2 | G26: 9 | H26: =G26/20 -> 0.45 | I26: 4 | J26: =I26/20 -> 0.2 | K26: 0 | L26: =K26/20 -> 0
A27: 10 | B27: Tác phong nghề nghiệp | C27: 0 | D27: =C27/20 -> 0 | E27: 4 | F27: =E27/20 -> 0.2 | G27: 6 | H27: =G27/20 -> 0.3 | I27: 5 | J27: =I27/20 -> 0.25 | K27: 5 | L27: =K27/20 -> 0.25
A28: 11 | B28: Phẩm chất đạo đức | C28: 0 | D28: =C28/20 -> 0 | E28: 0 | F28: =E28/20 -> 0 | G28: 4 | H28: =G28/20 -> 0.2 | I28: 12 | J28: =I28/20 -> 0.6 | K28: 4 | L28: =K28/20 -> 0.2
A29: 12 | B29: Tình trạng sức khỏe | C29: 0 | D29: =C29/20 -> 0 | E29: 0 | F29: =E29/20 -> 0 | G29: 3 | H29: =G29/20 -> 0.15 | I29: 9 | J29: =I29/20 -> 0.45 | K29: 8 | L29: =K29/20 -> 0.4
A30: Câu 3: Theo Ông/Bà để nâng cao chất lượng đào tạo tay nghề cho học sinh – sinh viên thì việc kết hợp trong đào tạo giữa nhà trường và doanh nghiệp cần thiết như thế nào?
A31: STT | B31: Nội dung | C31: Số lượng | E31: Tỷ lệ %
A32: 1 | B32: Rất cần thiết | C32: 19 | E32: =C32/20 -> 0.95
A33: 2 | B33: Bình thường | C33: 1 | E33: =C33/20 -> 0.05
A34: 3 | B34: Không cần thiết | C34: 0 | E34: =C34/20 -> 0
A35: Câu 4: Đánh giá của Ông/ Bà về mức độ của các nội dung hợp tác giữa nhà trường và doanh nghiệp như thế nào?
A36: Stt | B36: Nội dung hợp tác | C36: Mức độ phối hợp
C37: Chưa thực hiện | E37: Thỉnh thoảng | G37: Thường xuyên | I37: Rất thường xuyên
C38: SL | D38: % | E38: SL | F38: % | G38: SL | H38: % | I38: SL | J38: %
A40: 1 | B40: Trong việc xây dựng chương trình đào tạo của trường. | C40: 4 | D40: =C40/20 -> 0.2 | E40: 11 | F40: =E40/20 -> 0.55 | G40: 5 | H40: =G40/20 -> 0.25 | I40: 0 | J40: =I40/20 -> 0
A41: 2 | B41: Trong việc xây dựng kế hoạch đào tạo của trường. | C41: 5 | D41: =C41/20 -> 0.25 | E41: 10 | F41: =E41/20 -> 0.5 | G41: 4 | H41: =G41/20 -> 0.2 | I41: 1 | J41: =I41/20 -> 0.05
A42: 3 | B42: Trong việc tổ chức giảng dạy. | C42: 7 | D42: =C42/20 -> 0.35 | E42: 9 | F42: =E42/20 -> 0.45 | G42: 4 | H42: =G42/20 -> 0.2 | I42: 0 | J42: =I42/20 -> 0
A43: 4 | B43: Trong việc sử dụng trang thiết bị thực hành, thực tập. | C43: 2 | D43: =C43/20 -> 0.1 | E43: 8 | F43: =E43/20 -> 0.4 | G43: 9 | H43: =G43/20 -> 0.45 | I43: 1 | J43: =I43/20 -> 0.05
...

Sheet CO-KHÍ
B1: TRƯỜNG CAO ĐẲNG KỸ THUẬT | H1: CỘNG HOÀ XÃ HỘI CHỦ NGHĨA VIỆT NAM
B2: LÝ TỰ TRỌNG | H2: Độc Lập - Tự Do - Hạnh phúc
B3: KHOA: CƠ KHÍ
A5: BẢNG TỔNG HỢP KẾT QUẢ KHẢO SÁT DOANH NGHIỆP
A6: KHOA: CƠ KHÍ
A7: Câu 1: Đánh giá của Ông/ Bà về thời lượng học sinh – sinh viên thực tập tốt nghiệp tại doanh nghiệp như thế nào?
A9: STT | B9: Nội dung | C9: Số lượng | E9: Tỷ lệ %
A10: 1 | B10: Đủ | C10: 1 | E10: =C10/6 -> 0.16666667
A11: 2 | B11: Tạm đủ | C11: 4 | E11: =C11/6 -> 0.66666667
A12: 3 | B12: Chưa đủ | C12: 2 | E12: =C12/6 -> 0.33333333
A13: 4 | B13: Không có ý kiến | C13: 0 | E13: =C13/6 -> 0
A14: Câu 2: Đánh giá của Ông/ Bà về mức độ đáp ứng yêu cầu tuyển dụng của doanh nghiệp đối với học sinh – sinh viên đã được đào tạo tại trường, hiện đang làm việc tại doanh nghiệp? (Mức độ đáp ứng được đánh giá theo 5 mức, trong đó: mức 1 là đáp ứng rất thấp, mức 2 là đáp ứng thấp, mức 3 là đáp ứng vừa phải, mức 4 là đáp ứng cao, mức 5 là đáp ứng rất cao)
A15: Stt | B15: Nội dung đánh giá | C15: Mức độ đáp ứng nhu yêu cầu tuyển dụng
C16: 1 | E16: 2 | G16: 3 | I16: 4 | K16: 5
C17: SL | D17: % | E17: SL | F17: % | G17: SL | H17: % | I17: SL | J17: % | K17: SL | L17: %
A18: 1 | B18: Kiến thức chuyên môn | C18: 0 | D18: =C18/6 -> 0 | E18: 1 | F18: =E18/6 -> 0.16666667 | G18: 0 | H18: =G18/6 -> 0 | I18: 5 | J18: =I18/6 -> 0.83333333 | K18: 0 | L18: =K18/6 -> 0
A19: 2 | B19: Kỹ năng thực hành | C19: 0 | D19: =C19/6 -> 0 | E19: 0 | F19: =E19/6 -> 0 | G19: 2 | H19: =G19/6 -> 0.33333333 | I19: 4 | J19: =I19/6 -> 0.66666667 | K19: 0 | L19: =K19/6 -> 0
A20: 3 | B20: Khả năng sử dụng thiết bị, công nghệ mới | C20: 1 | D20: =C20/6 -> 0.16666667 | E20: 0 | F20: =E20/6 -> 0 | G20: 2 | H20: =G20/6 -> 0.33333333 | I20: 4 | J20: =I20/6 -> 0.66666667 | K20: 0 | L20: =K20/6 -> 0
A21: 4 | B21: Khả năng giải quyết các tình huống trong công việc | C21: 1 | D21: =C21/6 -> 0.16666667 | E21: 0 | F21: =E21/6 -> 0 | G21: 4 | H21: =G21/6 -> 0.66666667 | I21: 2 | J21: =I21/6 -> 0.33333333 | K21: 0 | L21: =K21/6 -> 0
A22: 5 | B22: Khả năng làm việc theo nhóm | C22: 0 | D22: =C22/6 -> 0 | E22: 2 | F22: =E22/6 -> 0.33333333 | G22: 2 | H22: =G22/6 -> 0.33333333 | I22: 2 | J22: =I22/6 -> 0.33333333 | K22: 1 | L22: =K22/6 -> 0.16666667
A23: 6 | B23: Khả năng tự nghiên cứu | C23: 1 | D23: =C23/6 -> 0.16666667 | E23: 1 | F23: =E23/6 -> 0.16666667 | G23: 1 | H23: =G23/6 -> 0.16666667 | I23: 3 | J23: =I23/6 -> 0.5 | K23: 0 | L23: =K23/6 -> 0
A24: 7 | B24: Kỹ năng giao tiếp | C24: 0 | D24: =C24/6 -> 0 | E24: 0 | F24: =E24/6 -> 0 | G24: 2 | H24: =G24/6 -> 0.33333333 | I24: 4 | J24: =I24/6 -> 0.66666667 | K24: 0 | L24: =K24/6 -> 0
A25: 8 | B25: Khả năng về tin học | C25: 0 | D25: =C25/6 -> 0 | E25: 0 | F25: =E25/6 -> 0 | G25: 2 | H25: =G25/6 -> 0.33333333 | I25: 2 | J25: =I25/6 -> 0.33333333 | K25: 0 | L25: =K25/6 -> 0
A26: 9 | B26: Khả năng về ngoại ngữ | C26: 0 | D26: =C26/6 -> 0 | E26: 0 | F26: =E26/6 -> 0 | G26: 4 | H26: =G26/6 -> 0.66666667 | I26: 0 | J26: =I26/6 -> 0 | K26: 0 | L26: =K26/6 -> 0
A27: 10 | B27: Tác phong nghề nghiệp | C27: 0 | D27: =C27/6 -> 0 | E27: 0 | F27: =E27/6 -> 0 | G27: 1 | H27: =G27/6 -> 0.16666667 | I27: 2 | J27: =I27/6 -> 0.33333333 | K27: 3 | L27: =K27/6 -> 0.5
A28: 11 | B28: Phẩm chất đạo đức | C28: 0 | D28: =C28/6 -> 0 | E28: 0 | F28: =E28/6 -> 0 | G28: 0 | H28: =G28/6 -> 0 | I28: 2 | J28: =I28/6 -> 0.33333333 | K28: 3 | L28: =K28/6 -> 0.5
A29: 12 | B29: Tình trạng sức khỏe | C29: 0 | D29: =C29/6 -> 0 | E29: 0 | F29: =E29/6 -> 0 | G29: 0 | H29: =G29/6 -> 0 | I29: 1 | J29: =I29/6 -> 0.16666667 | K29: 4 | L29: =K29/6 -> 0.66666667
A30: Câu 3: Theo Ông/Bà để nâng cao chất lượng đào tạo tay nghề cho học sinh – sinh viên thì việc kết hợp trong đào tạo giữa nhà trường và doanh nghiệp cần thiết như thế nào?
A31: STT | B31: Nội dung | C31: Số lượng | E31: Tỷ lệ %
A32: 1 | B32: Rất cần thiết | C32: 6 | E32: =C32/6 -> 1
A33: 2 | B33: Bình thường | C33: 0 | E33: =C33/6 -> 0
A34: 3 | B34: Không cần thiết | C34: 0 | E34: =C34/6 -> 0
A35: Câu 4: Đánh giá của Ông/ Bà về mức độ của các nội dung hợp tác giữa nhà trường và doanh nghiệp như thế nào?
A36: Stt | B36: Nội dung hợp tác | C36: Mức độ phối hợp
C37: Chưa thực hiện | E37: Thỉnh thoảng | G37: Thường xuyên | I37: Rất thường xuyên
C38: SL | D38: % | E38: SL | F38: % | G38: SL | H38: % | I38: SL | J38: %
A40: 1 | B40: Trong việc xây dựng chương trình đào tạo của trường. | C40: 2 | D40: =C40/6 -> 0.33333333 | E40: 1 | F40: =E40/6 -> 0.16666667 | G40: 2 | H40: =G40/6 -> 0.33333333 | I40: 1 | J40: =I40/6 -> 0.16666667
A41: 2 | B41: Trong việc xây dựng kế hoạch đào tạo của trường. | C41: 1 | D41: =C41/6 -> 0.16666667 | E41: 1 | F41: =E41/6 -> 0.16666667 | G41: 2 | H41: =G41/6 -> 0.33333333 | I41: 2 | J41: =I41/6 -> 0.33333333
A42: 3 | B42: Trong việc tổ chức giảng dạy. | C42: 2 | D42: =C42/6 -> 0.33333333 | E42: 0 | F42: =E42/6 -> 0 | G42: 2 | H42: =G42/6 -> 0.33333333 | I42: 1 | J42: =I42/6 -> 0.16666667
A43: 4 | B43: Trong việc sử dụng trang thiết bị thực hành, thực tập. | C43: 1 | D43: =C43/6 -> 0.16666667 | E43: 1 | F43: =E43/6 -> 0.16666667 | G43: 2 | H43: =G43/6 -> 0.33333333 | I43: 2 | J43: =I43/6 -> 0.33333333
...

Sheet CNMAY-THỜI TRANG
B1: TRƯỜNG CAO ĐẲNG KỸ THUẬT | H1: CỘNG HOÀ XÃ HỘI CHỦ NGHĨA VIỆT NAM
B2: LÝ TỰ TRỌNG | H2: Độc Lập - Tự Do - Hạnh phúc
B3: KHOA: CÔNG NGHỆ MAY - THỜI TRANG
A5: BẢNG TỔNG HỢP KẾT QUẢ KHẢO SÁT DOANH NGHIỆP
A6: KHOA: CÔNG NGHỆ MAY - THỜI TRANG
A7: Câu 1: Đánh giá của Ông/ Bà về thời lượng học sinh – sinh viên thực tập tốt nghiệp tại doanh nghiệp như thế nào?
A9: STT | B9: Nội dung | C9: Số lượng | E9: Tỷ lệ %
A10: 1 | B10: Đủ | C10: 1 | E10: =C10/10 -> 0.1
A11: 2 | B11: Tạm đủ | C11: 4 | E11: =C11/10 -> 0.4
A12: 3 | B12: Chưa đủ | C12: 5 | E12: =C12/10 -> 0.5
A13: 4 | B13: Không có ý kiến | C13: 0 | E13: =C13/10 -> 0
A14: Câu 2: Đánh giá của Ông/ Bà về mức độ đáp ứng yêu cầu tuyển dụng của doanh nghiệp đối với học sinh – sinh viên đã được đào tạo tại trường, hiện đang làm việc tại doanh nghiệp? (Mức độ đáp ứng được đánh giá theo 5 mức, trong đó: mức 1 là đáp ứng rất thấp, mức 2 là đáp ứng thấp, mức 3 là đáp ứng vừa phải, mức 4 là đáp ứng cao, mức 5 là đáp ứng rất cao)
A15: Stt | B15: Nội dung đánh giá | C15: Mức độ đáp ứng nhu yêu cầu tuyển dụng
C16: 1 | E16: 2 | G16: 3 | I16: 4 | K16: 5
C17: SL | D17: % | E17: SL | F17: % | G17: SL | H17: % | I17: SL | J17: % | K17: SL | L17: %
A18: 1 | B18: Kiến thức chuyên môn | C18: 1 | D18: =C18/10 -> 0.1 | E18: 0 | F18: =E18/10 -> 0 | G18: 7 | H18: =G18/10 -> 0.7 | I18: 1 | J18: =I18/10 -> 0.1 | K18: 1 | L18: =K18/10 -> 0.1
A19: 2 | B19: Kỹ năng thực hành | C19: 1 | D19: =C19/10 -> 0.1 | E19: 2 | F19: =E19/10 -> 0.2 | G19: 6 | H19: =G19/10 -> 0.6 | I19: 2 | J19: =I19/10 -> 0.2 | K19: 0 | L19: =K19/10 -> 0
A20: 3 | B20: Khả năng sử dụng thiết bị, công nghệ mới | C20: 2 | D20: =C20/10 -> 0.2 | E20: 3 | F20: =E20/10 -> 0.3 | G20: 4 | H20: =G20/10 -> 0.4 | I20: 0 | J20: =I20/10 -> 0 | K20: 1 | L20: =K20/10 -> 0.1
A21: 4 | B21: Khả năng giải quyết các tình huống trong công việc | C21: 1 | D21: =C21/10 -> 0.1 | E21: 3 | F21: =E21/10 -> 0.3 | G21: 4 | H21: =G21/10 -> 0.4 | I21: 1 | J21: =I21/10 -> 0.1 | K21: 1 | L21: =K21/10 -> 0.1
A22: 5 | B22: Khả năng làm việc theo nhóm | C22: 1 | D22: =C22/10 -> 0.1 | E22: 2 | F22: =E22/10 -> 0.2 | G22: 5 | H22: =G22/10 -> 0.5 | I22: 1 | J22: =I22/10 -> 0.1 | K22: 1 | L22: =K22/10 -> 0.1
A23: 6 | B23: Khả năng tự nghiên cứu | C23: 1 | D23: =C23/10 -> 0.1 | E23: 5 | F23: =E23/10 -> 0.5 | G23: 4 | H23: =G23/10 -> 0.4 | I23: 1 | J23: =I23/10 -> 0.1 | K23: 0 | L23: =K23/10 -> 0
A24: 7 | B24: Kỹ năng giao tiếp | D24: =C24/10 -> 0 | E24: 3 | F24: =E24/10 -> 0.3 | G24: 5 | H24: =G24/10 -> 0.5 | I24: 1 | J24: =I24/10 -> 0.1 | K24: 1 | L24: =K24/10 -> 0.1
A25: 8 | B25: Khả năng về tin học | C25: 1 | D25: =C25/10 -> 0.1 | E25: 1 | F25: =E25/10 -> 0.1 | G25: 6 | H25: =G25/10 -> 0.6 | I25: 1 | J25: =I25/10 -> 0.1 | K25: 1 | L25: =K25/10 -> 0.1
A26: 9 | B26: Khả năng về ngoại ngữ | C26: 1 | D26: =C26/10 -> 0.1 | E26: 4 | F26: =E26/10 -> 0.4 | G26: 5 | H26: =G26/10 -> 0.5 | I26: 1 | J26: =I26/10 -> 0.1 | K26: 0 | L26: =K26/10 -> 0
A27: 10 | B27: Tác phong nghề nghiệp | C27: 0 | D27: =C27/10 -> 0 | E27: 2 | F27: =E27/10 -> 0.2 | G27: 6 | H27: =G27/10 -> 0.6 | I27: 0 | J27: =I27/10 -> 0 | K27: 1 | L27: =K27/10 -> 0.1
A28: 11 | B28: Phẩm chất đạo đức | C28: 0 | D28: =C28/10 -> 0 | E28: 0 | F28: =E28/10 -> 0 | G28: 3 | H28: =G28/10 -> 0.3 | I28: 7 | J28: =I28/10 -> 0.7 | K28: 0 | L28: =K28/10 -> 0
A29: 12 | B29: Tình trạng sức khỏe | C29: 0 | D29: =C29/10 -> 0 | E29: 0 | F29: =E29/10 -> 0 | G29: 6 | H29: =G29/10 -> 0.6 | I29: 2 | J29: =I29/10 -> 0.2 | K29: 1 | L29: =K29/10 -> 0.1
A30: Câu 3: Theo Ông/Bà để nâng cao chất lượng đào tạo tay nghề cho học sinh – sinh viên thì việc kết hợp trong đào tạo giữa nhà trường và doanh nghiệp cần thiết như thế nào?
A31: STT | B31: Nội dung | C31: Số lượng | E31: Tỷ lệ %
A32: 1 | B32: Rất cần thiết | C32: 10 | E32: =C32/10 -> 1
A33: 2 | B33: Bình thường | C33: 0 | E33: =C33/10 -> 0
A34: 3 | B34: Không cần thiết | C34: 0 | E34: =C34/10 -> 0
A35: Câu 4: Đánh giá của Ông/ Bà về mức độ của các nội dung hợp tác giữa nhà trường và doanh nghiệp như thế nào?
A36: Stt | B36: Nội dung hợp tác | C36: Mức độ phối hợp
C37: Chưa thực hiện | E37: Thỉnh thoảng | G37: Thường xuyên | I37: Rất thường xuyên
C38: SL | D38: % | E38: SL | F38: % | G38: SL | H38: % | I38: SL | J38: %
A40: 1 | B40: Trong việc xây dựng chương trình đào tạo của trường. | C40: 1 | D40: =C40/10 -> 0.1 | E40: 6 | F40: =E40/10 -> 0.6 | G40: 3 | H40: =G40/10 -> 0.3 | I40: 0 | J40: =I40/10 -> 0
A41: 2 | B41: Trong việc xây dựng kế hoạch đào tạo của trường. | C41: 2 | D41: =C41/10 -> 0.2 | E41: 4 | F41: =E41/10 -> 0.4 | G41: 3 | H41: =G41/10 -> 0.3 | I41: 1 | J41: =I41/10 -> 0.1
A42: 3 | B42: Trong việc tổ chức giảng dạy. | C42: 1 | D42: =C42/10 -> 0.1 | E42: 6 | F42: =E42/10 -> 0.6 | G42: 3 | H42: =G42/10 -> 0.3 | I42: 0 | J42: =I42/10 -> 0
A43: 4 | B43: Trong việc sử dụng trang thiết bị thực hành, thực tập. | C43: 0 | D43: =C43/10 -> 0 | E43: 7 | F43: =E43/10 -> 0.7 | G43: 2 | H43: =G43/10 -> 0.2 | I43: 1 | J43: =I43/10 -> 0.1
...

Sheet ĐIỆN LẠNH
B1: TRƯỜNG CAO ĐẲNG KỸ THUẬT | H1: CỘNG HOÀ XÃ HỘI CHỦ NGHĨA VIỆT NAM
B2: LÝ TỰ TRỌNG | H2: Độc Lập - Tự Do - Hạnh phúc
B3: KHOA: ĐIỆN LẠNH
A5: BẢNG TỔNG HỢP KẾT QUẢ KHẢO SÁT DOANH NGHIỆP
A6: KHOA: ĐIỆN LẠNH
A7: Câu 1: Đánh giá của Ông/ Bà về thời lượng học sinh – sinh viên thực tập tốt nghiệp tại doanh nghiệp như thế nào?
A9: STT | B9: Nội dung | C9: Số lượng | E9: Tỷ lệ %
A10: 1 | B10: Đủ | C10: 3 | E10: =C10/20 -> 0.15
A11: 2 | B11: Tạm đủ | C11: 7 | E11: =C11/20 -> 0.35
A12: 3 | B12: Chưa đủ | C12: 10 | E12: =C12/20 -> 0.5
A13: 4 | B13: Không có ý kiến | E13: =C13/20 -> 0
A14: Câu 2: Đánh giá của Ông/ Bà về mức độ đáp ứng yêu cầu tuyển dụng của doanh nghiệp đối với học sinh – sinh viên đã được đào tạo tại trường, hiện đang làm việc tại doanh nghiệp? (Mức độ đáp ứng được đánh giá theo 5 mức, trong đó: mức 1 là đáp ứng rất thấp, mức 2 là đáp ứng thấp, mức 3 là đáp ứng vừa phải, mức 4 là đáp ứng cao, mức 5 là đáp ứng rất cao)
A15: Stt | B15: Nội dung đánh giá | C15: Mức độ đáp ứng nhu yêu cầu tuyển dụng
C16: 1 | E16: 2 | G16: 3 | I16: 4 | K16: 5
C17: SL | D17: % | E17: SL | F17: % | G17: SL | H17: % | I17: SL | J17: % | K17: SL | L17: %
A18: 1 | B18: Kiến thức chuyên môn | E18: 2 | F18: =E18/20 -> 0.1 | G18: 12 | H18: =G18/20 -> 0.6 | I18: 6 | J18: =I18/20 -> 0.3
A19: 2 | B19: Kỹ năng thực hành | E19: 4 | F19: =E19/20 -> 0.2 | G19: 12 | H19: =G19/20 -> 0.6 | I19: 4 | J19: =I19/20 -> 0.2
A20: 3 | B20: Khả năng sử dụng thiết bị, công nghệ mới | E20: 5 | F20: =E20/20 -> 0.25 | G20: 10 | H20: =G20/20 -> 0.5 | I20: 5 | J20: =I20/20 -> 0.25 | K20: 1 | L20: =K20/20 -> 0.05
A21: 4 | B21: Khả năng giải quyết các tình huống trong công việc | C21: 1 | D21: =C21/20 -> 0.05 | E21: 3 | F21: =E21/20 -> 0.15 | G21: 11 | H21: =G21/20 -> 0.55 | I21: 4 | J21: =I21/20 -> 0.2
A22: 5 | B22: Khả năng làm việc theo nhóm | C22: 1 | D22: =C22/20 -> 0.05 | E22: 2 | F22: =E22/20 -> 0.1 | G22: 9 | H22: =G22/20 -> 0.45 | I22: 6 | J22: =I22/20 -> 0.3 | K22: 2 | L22: =K22/20 -> 0.1
A23: 6 | B23: Khả năng tự nghiên cứu | C23: 1 | D23: =C23/20 -> 0.05 | E23: 7 | F23: =E23/20 -> 0.35 | G23: 9 | H23: =G23/20 -> 0.45 | I23: 2 | J23: =I23/20 -> 0.1 | K23: 1 | L23: =K23/20 -> 0.05
A24: 7 | B24: Kỹ năng giao tiếp | C24: 1 | D24: =C24/20 -> 0.05 | E24: 4 | F24: =E24/20 -> 0.2 | G24: 8 | H24: =G24/20 -> 0.4 | I24: 7 | J24: =I24/20 -> 0.35
A25: 8 | B25: Khả năng về tin học | E25: 4 | F25: =E25/20 -> 0.2 | G25: 12 | H25: =G25/20 -> 0.6 | I25: 2 | J25: =I25/20 -> 0.1 | K25: 1 | L25: =K25/20 -> 0.05
A26: 9 | B26: Khả năng về ngoại ngữ | C26: 1 | D26: =C26/20 -> 0.05 | E26: 5 | F26: =E26/20 -> 0.25 | G26: 10 | H26: =G26/20 -> 0.5 | I26: 4 | J26: =I26/20 -> 0.2
A27: 10 | B27: Tác phong nghề nghiệp | E27: 2 | F27: =E27/20 -> 0.1 | G27: 9 | H27: =G27/20 -> 0.45 | I27: 7 | J27: =I27/20 -> 0.35 | K27: 1 | L27: =K27/20 -> 0.05
A28: 11 | B28: Phẩm chất đạo đức | G28: 3 | H28: =G28/20 -> 0.15 | I28: 12 | J28: =I28/20 -> 0.6 | K28: 5 | L28: =K28/20 -> 0.25
A29: 12 | B29: Tình trạng sức khỏe | G29: 5 | H29: =G29/20 -> 0.25 | I29: 10 | J29: =I29/20 -> 0.5 | K29: 5 | L29: =K29/20 -> 0.25
A30: Câu 3: Theo Ông/Bà để nâng cao chất lượng đào tạo tay nghề cho học sinh – sinh viên thì việc kết hợp trong đào tạo giữa nhà trường và doanh nghiệp cần thiết như thế nào?
A31: STT | B31: Nội dung | C31: Số lượng | E31: Tỷ lệ %
A32: 1 | B32: Rất cần thiết | C32: 20 | E32: =C32/20 -> 1
A33: 2 | B33: Bình thường | E33: =C33/24 -> 0
A34: 3 | B34: Không cần thiết | E34: =C34/24 -> 0
A35: Câu 4: Đánh giá của Ông/ Bà về mức độ của các nội dung hợp tác giữa nhà trường và doanh nghiệp như thế nào?
A36: Stt | B36: Nội dung hợp tác | C36: Mức độ phối hợp
C37: Chưa thực hiện | E37: Thỉnh thoảng | G37: Thường xuyên | I37: Rất thường xuyên
C38: SL | D38: % | E38: SL | F38: % | G38: SL | H38: % | I38: SL | J38: %
A40: 1 | B40: Trong việc xây dựng chương trình đào tạo của trường. | C40: 8 | D40: =C40/20 -> 0.4 | E40: 8 | F40: =E40/20 -> 0.4 | G40: 4 | H40: =G40/20 -> 0.2 | J40: =I40/20 -> 0
A41: 2 | B41: Trong việc xây dựng kế hoạch đào tạo của trường. | C41: 8 | D41: =C41/20 -> 0.4 | E41: 8 | F41: =E41/20 -> 0.4 | G41: 4 | H41: =G41/20 -> 0.2 | J41: =I41/20 -> 0
A42: 3 | B42: Trong việc tổ chức giảng dạy. | C42: 11 | D42: =C42/20 -> 0.55 | E42: 7 | F42: =E42/20 -> 0.35 | G42: 2 | H42: =G42/20 -> 0.1 | J42: =I42/20 -> 0
A43: 4 | B43: Trong việc sử dụng trang thiết bị thực hành, thực tập. | C43: 8 | D43: =C43/20 -> 0.4 | E43: 7 | F43: =E43/20 -> 0.35 | G43: 5 | H43: =G43/20 -> 0.25 | J43: =I43/20 -> 0
...
